Workbook

Sheet 入力シート
A1: 訪問看護に係る利用料請求書
S4: （ | V4: 月分 | X4: ・訪問回数 | AD4: 回）
A5: 訪問看護に係る利用料明細書 | B5: 基本利用料以外の利用料 | L5: 単 位 | P5: 単 価 | T5: 金額 | AB5: 適用
AO17: 普通
AO18: 当座
B22: 合計金額 | L22: 請 求 | Y22: ※ 決 定
W24: 円 | Y24: 円
A26: 請求書
B27: （利用者氏名） | H27: （生年月日）
O29: に係る上記明細書による訪問看護に係る利用料を
O30: 請求します。
B31: 〒
T32: 令和 | X32: 年 | AA32: 月 | AD32: 日
P33: 住所
B34: 別府市福祉事務所長
P35: 事業者名
B37: ケース番号 | U37: 地区担当員：
B38: （注意） １ ※印の欄は福祉事務所で記入します。
F39: ２ 摘要欄には利用料の内容が分かるように具体的に記入してください。
A41: 振込先 | H41: 銀行 | N41: 支店 | P41: 普通 当座 | U41: 口座番号
P43: 口座名義

Sheet 印刷シート
A1: 訪問看護に係る利用料請求書
S4: （ | T4: =入力シート!T4&"" | V4: 月分 | X4: ・訪問回数 | AB4: =入力シート!AB4&"" | AD4: 回）
A5: 訪問看護に係る利用料明細書 | B5: 基本利用料以外の利用料 | L5: 単 位 | P5: 単 価 | T5: 金額 | AB5: 適用
B6: =入力シート!B6&"" | L6: =入力シート!L6&"" | P6: =IF(入力シート!P6="","",入力シート!P6) | T6: =IF(入力シート!T6="","",入力シート!T6) | AB6: =入力シート!AB6&""
B8: =入力シート!B8&"" | L8: =入力シート!L8&"" | P8: =IF(入力シート!P8="","",入力シート!P8) | T8: =IF(入力シート!T8="","",入力シート!T8) | AB8: =入力シート!AB8&""
B10: =入力シート!B10&"" | L10: =入力シート!L10&"" | P10: =IF(入力シート!P10="","",入力シート!P10) | T10: =IF(入力シート!T10="","",入力シート!T10) | AB10: =入力シート!AB10&""
B12: =入力シート!B12&"" | L12: =入力シート!L12&"" | P12: =IF(入力シート!P12="","",入力シート!P12) | T12: =IF(入力シート!T12="","",入力シート!T12) | AB12: =入力シート!AB12&""
B14: =入力シート!B14&"" | L14: =入力シート!L14&"" | P14: =IF(入力シート!P14="","",入力シート!P14) | T14: =IF(入力シート!T14="","",入力シート!T14) | AB14: =入力シート!AB14&""
B16: =入力シート!B16&"" | L16: =入力シート!L16&"" | P16: =IF(入力シート!P16="","",入力シート!P16) | T16: =IF(入力シート!T16="","",入力シート!T16) | AB16: =入力シート!AB16&""
B18: =入力シート!B18&"" | L18: =入力シート!L18&"" | P18: =IF(入力シート!P18="","",入力シート!P18) | T18: =IF(入力シート!T18="","",入力シート!T18) | AB18: =入力シート!AB18&""
B20: =入力シート!B20&"" | L20: =入力シート!L20&"" | P20: =IF(入力シート!P20="","",入力シート!P20) | T20: =IF(入力シート!T20="","",入力シート!T20) | AB20: =入力シート!AB20&""
B22: 合計金額 | L22: 請 求 | Y22: ※ 決 定
L24: =IF(入力シート!L24="","",入力シート!L24) | W24: 円 | Y24: 円
A26: 請求書
B27: （利用者氏名） | H27: （生年月日）
B29: =入力シート!B29&"" | H29: =IF(入力シート!H29="","",入力シート!H29) | O29: に係る上記明細書による訪問看護に係る利用料を
O30: 請求します。
B31: 〒 | C31: =入力シート!C31&"" | H31: =入力シート!H31&""
T32: 令和 | V32: =入力シート!V32&"" | X32: 年 | Y32: =入力シート!Y32&"" | AA32: 月 | AB32: =入力シート!AB32&"" | AD32: 日
P33: 住所 | R33: =入力シート!R33&""
B34: 別府市福祉事務所長
P35: 事業者名 | T35: =入力シート!T35&""
B37: ケース番号 | F37: =入力シート!F37&"" | U37: 地区担当員： | Z37: =入力シート!Z37&""
B38: （注意） １ ※印の欄は福祉事務所で記入します。
F39: ２ 摘要欄には利用料の内容が分かるように具体的に記入してください。
A41: 振込先 | C41: =入力シート!C41&"" | H41: 銀行 | J41: =入力シート!J41&"" | N41: 支店 | P41: 普通 当座 | R41: =入力シート!R41&"" | U41: 口座番号 | X41: =入力シート!X41&""
P43: 口座名義 | S43: =入力シート!S43&""
