Workbook

Sheet 入力シート
A1: 訪問看護要否意見書 | AJ1: 入力
C2: １ 新規 | M2: 2 継続
A3: ケース番号 | I3: 員番 | AC3: 適用開始 | AJ3: 担当 | BI3: 入院 | BM3: 入院
A4: 医療承認期間 | H4: 令和 | M4: 年 | P4: 月 | S4: 日 | T4: ～ | X4: 令和 | AC4: 年 | AF4: 月 | AI4: 日 | AJ4: 地区 | BI4: 入院外 | BM4: 外来
B6: 住 所 | BI6: 要する | BM6: 男 | BO6: 治癒 | BR6: 大正
X7: に係る | AA7: 令和 | AE7: 年 | AH7: 月 | AK7: 日以降の | BI7: 要しない | BM7: 女 | BO7: 中止 | BR7: 昭和
X8: 医療の要否について意見を求めます。 | BO8: 死亡 | BR8: 平成
B9: 氏 名 | X9: 令和 | AB9: 年 | AE9: 月 | AH9: 日 | BR9: 令和
P11: 生 | V11: 才 | AA11: 別府市福祉事務所長
T13: 院（所）長様
A15: 主たる病名 | AA15: 訪問看護 開始年月日
A20: 症状・治療状態（改善の見込み等）
A28: 訪問看護 見込期間 | Q28: か月 | V28: 訪問看護 見込回数 （１週当たり）
AC29: □ | AD29: 1 1回 | AG29: □ | AH29: 4 4回以上
AC32: □ | AD32: 2 2回 | AG32: □ | AH32: 5 その他
AC35: □ | AD35: 3 3回 | AG35: （ 週当たり 回）
A38: 実施が適当と 思われる 訪問看護事業者 | I38: 所在地
I44: 名称
G52: 上記のとおり訪問看護を | X52: と認めます。
AC54: 令和 | AG54: 年 | AJ54: 月 | AM54: 日
B55: 別府市福祉事務所長 あて
R57: 指定医療機関 | U57: 所在地 及び 名称
U59: 院 （所） 長
U60: 担当医師（診療科名）
A61: ※福祉事務所 | I61: 1 訪問看護の要否（ア 要する イ 要しない）
A62: 嘱託医意見 | I62: 2 訪問看護見込回数（ か月）
I63: 3 訪問看護見込回数（１週当たり 回 （ 週当たり 回）
I64: 4 参考意見
AE65: 令和 年 月 日
Z67: 嘱託医 ㊞
A69: 記入要領 ※印の欄は福祉事務所が記入します。
F70: 実施が適当と思われる訪問看護事業者が変更になる場合は訂正してください。

Sheet 印刷シート
A1: 訪問看護要否意見書 | AJ1: 入力
C2: １ 新規 | M2: 2 継続
A3: ケース番号 | E3: =入力シート!E3&"" | I3: 員番 | K3: =入力シート!K3&"" | M3: =入力シート!M3&"" | O3: =入力シート!O3&"" | Q3: =入力シート!Q3&"" | S3: =入力シート!S3&"" | U3: =入力シート!U3&"" | X3: =入力シート!X3&"" | Z3: =入力シート!Z3&"" | AC3: 適用開始 | AF3: =IF(入力シート!AF3="","",入力シート!AF3) | AJ3: 担当 | AL3: =入力シート!AL3&"" | BI3: 入院 | BM3: 入院
A4: 医療承認期間 | H4: 令和 | K4: =入力シート!K4&"" | M4: 年 | N4: =入力シート!N4&"" | P4: 月 | Q4: =入力シート!N4&"" | S4: 日 | T4: ～ | X4: 令和 | AA4: =入力シート!AA4&"" | AC4: 年 | AD4: =入力シート!AD4&"" | AF4: 月 | AG4: =入力シート!AG4&"" | AI4: 日 | AJ4: 地区 | AL4: =入力シート!AL4&"" | BI4: 入院外 | BM4: 外来
B6: 住 所 | F6: =入力シート!F6&"" | BI6: 要する | BM6: 男 | BO6: 治癒 | BR6: 大正
X7: に係る | AA7: 令和 | AC7: =入力シート!AC7&"" | AE7: 年 | AF7: =入力シート!AF7&"" | AH7: 月 | AI7: =入力シート!AI7&"" | AK7: 日以降の | BI7: 要しない | BM7: 女 | BO7: 中止 | BR7: 昭和
F8: =入力シート!F8&"" | X8: 医療の要否について意見を求めます。 | BO8: 死亡 | BR8: 平成
B9: 氏 名 | F9: =入力シート!F9&"" | X9: 令和 | Z9: =入力シート!Z9&"" | AB9: 年 | AC9: =入力シート!AC9&"" | AE9: 月 | AF9: =入力シート!AF9&"" | AH9: 日 | BR9: 令和
F11: =入力シート!F11&"" | J11: =IF(入力シート!J11="","",入力シート!J11) | P11: 生 | T11: =入力シート!T11&"" | V11: 才 | AA11: 別府市福祉事務所長
F13: =入力シート!F13&"" | T13: 院（所）長様
A15: 主たる病名 | I15: =入力シート!I15&"" | AA15: 訪問看護 開始年月日 | AG15: =入力シート!AG15&""
A20: 症状・治療状態（改善の見込み等） | I20: =入力シート!I20&""
A28: 訪問看護 見込期間 | I28: =入力シート!I28&"" | Q28: か月 | V28: 訪問看護 見込回数 （１週当たり）
AC29: =入力シート!AC29&"" -> □ | AD29: 1 1回 | AG29: =入力シート!AG29&"" -> □ | AH29: 4 4回以上
AC32: =入力シート!AC32&"" -> □ | AD32: 2 2回 | AG32: =入力シート!AG32&"" -> □ | AH32: 5 その他
AC35: =入力シート!AC35&"" -> □ | AD35: 3 3回 | AG35: =入力シート!AG35&"" -> （ 週当たり 回）
A38: 実施が適当と 思われる 訪問看護事業者 | I38: 所在地 | M38: =入力シート!M38&""
I44: 名称 | M44: =入力シート!M44&""
G52: 上記のとおり訪問看護を | S52: =入力シート!S52&"" | X52: と認めます。
AC54: 令和 | AE54: =入力シート!AE54&"" | AG54: 年 | AH54: =入力シート!AH54&"" | AJ54: 月 | AK54: =入力シート!AK54&"" | AM54: 日
B55: 別府市福祉事務所長 あて
R57: 指定医療機関 | U57: 所在地 及び 名称 | AC57: =入力シート!AC57&""
AC58: =入力シート!AC58&""
U59: 院 （所） 長 | AC59: =入力シート!AC59&""
U60: 担当医師（診療科名） | AC60: =入力シート!AC60&""
A61: ※福祉事務所 | I61: 1 訪問看護の要否（ア 要する イ 要しない）
A62: 嘱託医意見 | I62: 2 訪問看護見込回数（ か月）
I63: 3 訪問看護見込回数（１週当たり 回 （ 週当たり 回）
I64: 4 参考意見
AE65: 令和 年 月 日
Z67: 嘱託医 ㊞
A69: 記入要領 ※印の欄は福祉事務所が記入します。
F70: 実施が適当と思われる訪問看護事業者が変更になる場合は訂正してください。
