Workbook

Sheet 入力シート
C1: 医 療 要 否 意 見 書
AJ2: 入力
A3: １ 新規 | J3: 2 継続
A4: ケース番号 | I4: 員番 | O4: 市費 | X4: 単給 | AC4: 適用開始 | AJ4: 担当 | BI4: 入院 | BM4: 入院
A5: 医療承認期間 | H5: 令和 | M5: 年 | P5: 月 | S5: 日 | T5: ～ | X5: 令和 | AC5: 年 | AF5: 月 | AI5: 日 | AJ5: 地区 | BI5: 入院外 | BM5: 外来
B7: 住 所 | BI7: 要する | BM7: 男 | BO7: 治癒 | BR7: 大正
X8: に係る | AA8: 令和 | AE8: 年 | AH8: 月 | AK8: 日以降の | BI8: 要しない | BM8: 女 | BO8: 中止 | BR8: 昭和
X9: 医療の要否について意見を求めます。 | BO9: 死亡 | BR9: 平成
B10: 氏 名 | X10: 令和 | AB10: 年 | AE10: 月 | AH10: 日 | BR10: 令和
P12: 生 | V12: 才 | AA12: 別府市福祉事務所長
T14: 院（所）長様
A16: 又は部位 傷病名 | W16: 年月日 初 診 | AH16: 転帰 | AI16: 年 月 日
D17: (1) | Y17: (1)
D19: (2) | Y19: (2)
D21: (3) | Y21: (3)
A23: 今後の診療見込み 主要症状及び | AB23: 福祉事務所への連絡事項
AB24: 入・退院日 | AH24: 年 | AK24: 月 | AM24: 日
A31: 見込期間 診療 | D31: 入院外 | L31: か月 | P31: 日間 | R31: 医療費 概算 | V31: (1)今回診療日以降 | AE31: (2)第２か月日以降
V34: １か月間 | AE34: ６か月日まで
D35: 入院 | E35: 期間 | L35: か月 | P35: 日間
AD37: 円 | AM37: 円
E39: （予定） 年月日 | J39: 年 月 日
V40: （入院料 | AD40: 円） | AE40: （入院料 | AM40: 円）
B43: 上記のとおり | I43: 入院 | O43: の医療を | S43: 要する | X43: と認めます。
B45: 別府市福祉事務所長 あて | AC45: 令和 | AG45: 年 | AJ45: 月 | AM45: 日
R46: 指定医療機関 | U46: 所在地 及び 名称
U48: 院 （ 所 ） 長
U49: 担当医師（診療科名）
A50: ※ | C50: 嘱託医の意見
A54: 診察料・検査料請求書
C56: 別府市福祉事務所長 あて | AE56: 令和 年 月 日
C57: 下記のとおり請求します。
N59: 指定医療機関の所在地及び名称
N60: 指定医療機関の長又は開設者氏名
A61: この券による診察年月日 | H61: 年 月 日 | V61: 受診者氏名 | AB61: （ 才）
C63: 診 察 料 | K63: 初・再 点 | T63: （検査名）
C64: 料 | K64: 点
C65: 料 | K65: 点
C66: 合計 | K66: 点 | T66: ※社保等負担額 | AA66: 円 | AF66: 差引額 | AJ66: 円
K67: 円
...

Sheet 印刷シート（表面）
C1: 医 療 要 否 意 見 書
AJ2: 入力
A3: １ 新規 | J3: 2 継続 | AG3: =入力シート!AG3&""
A4: ケース番号 | E4: =入力シート!E4&"" | I4: 員番 | K4: =入力シート!K4&"" | M4: =入力シート!M4&"" | O4: =入力シート!O4&"" -> 市費 | Q4: =入力シート!Q4&"" | S4: =入力シート!S4&"" | U4: =入力シート!U4&"" | X4: =入力シート!X4&"" -> 単給 | Z4: =入力シート!Z4&"" | AC4: 適用開始 | AF4: =IF(入力シート!AF4="","",入力シート!AF4) | AJ4: 担当 | AL4: =入力シート!AL4&""
A5: 医療承認期間 | H5: 令和 | K5: =入力シート!K5&"" | M5: 年 | N5: =入力シート!N5&"" | P5: 月 | Q5: =入力シート!Q5&"" | S5: 日 | T5: ～ | X5: 令和 | AA5: =入力シート!AA5&"" | AC5: 年 | AD5: =入力シート!AD5&"" | AF5: 月 | AG5: =入力シート!AG5&"" | AI5: 日 | AJ5: 地区 | AL5: =入力シート!AL5&""
B7: 住 所 | F7: =入力シート!F7&""
X8: に係る | AA8: 令和 | AC8: =入力シート!AC8&"" | AE8: 年 | AF8: =入力シート!AF8&"" | AH8: 月 | AI8: =入力シート!AI8&"" | AK8: 日以降の
F9: =入力シート!F9&"" | X9: 医療の要否について意見を求めます。
B10: 氏 名 | F10: =入力シート!F10&"" | X10: 令和 | Z10: =入力シート!Z10&"" | AB10: 年 | AC10: =入力シート!AC10&"" | AE10: 月 | AF10: =入力シート!AF10&"" | AH10: 日
F12: =入力シート!F12&"" | J12: =IF(入力シート!J12="","",入力シート!J12) | P12: 生 | T12: =入力シート!T12&"" | V12: 才 | AA12: 別府市福祉事務所長
F14: =入力シート!F14&"" | T14: 院（所）長様
A16: 又は部位 傷病名 | W16: 年月日 初 診 | AH16: 転帰 | AI16: =入力シート!AI16&"" -> 年 月 日
D17: (1) | E17: =入力シート!E17&"" | Y17: (1) | AA17: =IF(入力シート!AA17="","",入力シート!AA17)
D19: (2) | E19: =入力シート!E19&"" | Y19: (2) | AA19: =IF(入力シート!AA19="","",入力シート!AA19) | AI19: =入力シート!AI19&""
D21: (3) | E21: =入力シート!E21&"" | Y21: (3) | AA21: =IF(入力シート!AA21="","",入力シート!AA21)
A23: 今後の診療見込み 主要症状及び | AB23: 福祉事務所への連絡事項
AB24: 入・退院日 | AF24: =入力シート!AF24&"" | AH24: 年 | AI24: =入力シート!AI24&"" | AK24: 月 | AL24: =入力シート!AL24&"" | AM24: 日
D25: =入力シート!D25&""
A31: 見込期間 診療 | D31: 入院外 | J31: =入力シート!J31&"" | L31: か月 | N31: =入力シート!N31&"" | P31: 日間 | R31: 医療費 概算 | V31: (1)今回診療日以降 | AE31: (2)第２か月日以降
V34: １か月間 | AE34: ６か月日まで
D35: 入院 | E35: 期間 | J35: =入力シート!J35&"" | L35: か月 | N35: =入力シート!N35&"" | P35: 日間
V37: =IF(入力シート!V37="","",入力シート!V37) | AD37: 円 | AE37: =IF(入力シート!AE37="","",入力シート!AE37) | AM37: 円
E39: （予定） 年月日 | J39: =入力シート!J39&"" -> 年 月 日
V40: （入院料 | Y40: =IF(入力シート!Y40="","",入力シート!Y40) | AD40: 円） | AE40: （入院料 | AH40: =IF(入力シート!AH40="","",入力シート!AH40) | AM40: 円）
B43: 上記のとおり | I43: =入力シート!I43&"" -> 入院 | O43: の医療を | S43: =入力シート!S43&"" -> 要する | X43: と認めます。
B45: 別府市福祉事務所長 あて | AC45: 令和 | AE45: =入力シート!AE45&"" | AG45: 年 | AH45: =入力シート!AH45&"" | AJ45: 月 | AK45: =入力シート!AK45&"" | AM45: 日
R46: 指定医療機関 | U46: 所在地 及び 名称 | AC46: =入力シート!AC46&""
AC47: =入力シート!AC47&""
U48: 院 （ 所 ） 長 | AC48: =入力シート!AC48&""
U49: 担当医師（診療科名） | AC49: =入力シート!AC49&""
A50: ※ | C50: 嘱託医の意見
A54: 診察料・検査料請求書
C56: 別府市福祉事務所長 あて | AE56: 令和 年 月 日
C57: 下記のとおり請求します。
N59: 指定医療機関の所在地及び名称
N60: 指定医療機関の長又は開設者氏名
A61: この券による診察年月日 | H61: 年 月 日 | V61: 受診者氏名 | AB61: （ 才）
C63: 診 察 料 | K63: 初・再 点 | T63: （検査名）
C64: 料 | K64: 点
C65: 料 | K65: 点
...

Sheet 印刷シート（裏面）
A2: （ 裏 面 ）
B4: （注意）
B5: １ この意見書を提示した患者で（１新規）のものは新規に生活保護法による保護を申
B6: 請している世帯の者ですから診察料等を患者から徴収してください。
B7: （２継続）のものは生活保護法による保護を受けている世帯の者ですから診察料等
B8: を患者から徴収しないでください。
B9: なお、患者に後日医療券が交付された場合には、その医療券に基づき支払基金等あ
B10: て請求してください。
B11: また、この場合、診察料等の徴収額が、その医療券に記載されている「本人支払
B12: 額」欄の金額を超過している場合には、その超過額を患者に返してください。
B13: ２ 「主要症状及び今後の診療見込」欄において臨床諸検査等の記入を福祉事務所から
B14: お願いしたときは、直近の臨床諸検査結果等を記入してください。
B15: ３ 患者が診察（初診、再診、往診）又は検査だけを受けた場合には医療券が交付され
... B44: ６ ※印欄は福祉事務所で記入します。
